BEGIN:VCALENDAR
VERSION:2.0
PRODID:-//Lee University - ECPv6.15.17.1//NONSGML v1.0//EN
CALSCALE:GREGORIAN
METHOD:PUBLISH
X-ORIGINAL-URL:https://www.leeuniversity.edu
X-WR-CALDESC:Events for Lee University
REFRESH-INTERVAL;VALUE=DURATION:PT1H
X-Robots-Tag:noindex
X-PUBLISHED-TTL:PT1H
BEGIN:VTIMEZONE
TZID:America/New_York
BEGIN:DAYLIGHT
TZOFFSETFROM:-0500
TZOFFSETTO:-0400
TZNAME:EDT
DTSTART:20250309T070000
END:DAYLIGHT
BEGIN:STANDARD
TZOFFSETFROM:-0400
TZOFFSETTO:-0500
TZNAME:EST
DTSTART:20251102T060000
END:STANDARD
BEGIN:DAYLIGHT
TZOFFSETFROM:-0500
TZOFFSETTO:-0400
TZNAME:EDT
DTSTART:20260308T070000
END:DAYLIGHT
BEGIN:STANDARD
TZOFFSETFROM:-0400
TZOFFSETTO:-0500
TZNAME:EST
DTSTART:20261101T060000
END:STANDARD
BEGIN:DAYLIGHT
TZOFFSETFROM:-0500
TZOFFSETTO:-0400
TZNAME:EDT
DTSTART:20270314T070000
END:DAYLIGHT
BEGIN:STANDARD
TZOFFSETFROM:-0400
TZOFFSETTO:-0500
TZNAME:EST
DTSTART:20271107T060000
END:STANDARD
END:VTIMEZONE
BEGIN:VEVENT
DTSTART;TZID=America/New_York:20260422T193000
DTEND;TZID=America/New_York:20260422T203000
DTSTAMP:20260423T074056
CREATED:20260109T230638Z
LAST-MODIFIED:20260422T160501Z
UID:10001774-1776886200-1776889800@www.leeuniversity.edu
SUMMARY:Small Jazz Ensemble Concert
DESCRIPTION:
URL:https://www.leeuniversity.edu/event/small-jazz-ensemble-concert/
LOCATION:Dixon Center\, 1053 Church St\, Cleveland\, TN\, 37311\, United States
CATEGORIES:Music
ATTACH;FMTTYPE=image/png:https://www.leeuniversity.edu/wp-content/uploads/Jazz-3-jYtmHM.png
ORGANIZER;CN="LEEU":MAILTO:info@leeuniversity.edu
END:VEVENT
BEGIN:VEVENT
DTSTART;TZID=America/New_York:20260420T193000
DTEND;TZID=America/New_York:20260420T210000
DTSTAMP:20260423T074056
CREATED:20251125T185101Z
LAST-MODIFIED:20260420T160512Z
UID:10001685-1776713400-1776718800@www.leeuniversity.edu
SUMMARY:Jazz Ensemble Concert
DESCRIPTION:
URL:https://www.leeuniversity.edu/event/jazz-ensemble-concert/
LOCATION:Dixon Center\, 1053 Church St\, Cleveland\, TN\, 37311\, United States
CATEGORIES:Music
ATTACH;FMTTYPE=image/png:https://www.leeuniversity.edu/wp-content/uploads/Jazz-2-DLi7NW.png
ORGANIZER;CN="LEEU":MAILTO:info@leeuniversity.edu
END:VEVENT
BEGIN:VEVENT
DTSTART;TZID=America/New_York:20260326T193000
DTEND;TZID=America/New_York:20260326T210000
DTSTAMP:20260423T074056
CREATED:20251124T183826Z
LAST-MODIFIED:20260326T145003Z
UID:10001670-1774553400-1774558800@www.leeuniversity.edu
SUMMARY:Presidential Concert Series: Chris Brubeck’s Triple Play
DESCRIPTION:
URL:https://www.leeuniversity.edu/event/presidential-concert-series-chris-brubecks-triple-play-2/
LOCATION:Dixon Center\, 1053 Church St\, Cleveland\, TN\, 37311\, United States
CATEGORIES:Music
ATTACH;FMTTYPE=image/png:https://www.leeuniversity.edu/wp-content/uploads/Website-Stock-8-QMQUzT.png
ORGANIZER;CN="LEEU":MAILTO:info@leeuniversity.edu
END:VEVENT
BEGIN:VEVENT
DTSTART;TZID=America/New_York:20260326T193000
DTEND;TZID=America/New_York:20260326T210000
DTSTAMP:20260423T074056
CREATED:20251001T173020Z
LAST-MODIFIED:20260106T022001Z
UID:10001417-1774553400-1774558800@www.leeuniversity.edu
SUMMARY:Presidential Concert Series: Chris Brubeck’s Triple Play
DESCRIPTION:
URL:https://www.leeuniversity.edu/event/presidential-concert-series-chris-brubecks-triple-play/
LOCATION:Dixon Center\, 1053 Church St\, Cleveland\, TN\, 37311\, United States
CATEGORIES:Presidential Concert Series
ATTACH;FMTTYPE=image/webp:https://www.leeuniversity.edu/wp-content/uploads/Chris-Brubeck-Triple-Play-6sNJFQ.webp
ORGANIZER;CN="LEEU":MAILTO:info@leeuniversity.edu
END:VEVENT
END:VCALENDAR