BEGIN:VCALENDAR
VERSION:2.0
PRODID:-//Lee University - ECPv6.15.17.1//NONSGML v1.0//EN
CALSCALE:GREGORIAN
METHOD:PUBLISH
X-ORIGINAL-URL:https://www.leeuniversity.edu
X-WR-CALDESC:Events for Lee University
REFRESH-INTERVAL;VALUE=DURATION:PT1H
X-Robots-Tag:noindex
X-PUBLISHED-TTL:PT1H
BEGIN:VTIMEZONE
TZID:America/New_York
BEGIN:DAYLIGHT
TZOFFSETFROM:-0500
TZOFFSETTO:-0400
TZNAME:EDT
DTSTART:20250309T070000
END:DAYLIGHT
BEGIN:STANDARD
TZOFFSETFROM:-0400
TZOFFSETTO:-0500
TZNAME:EST
DTSTART:20251102T060000
END:STANDARD
BEGIN:DAYLIGHT
TZOFFSETFROM:-0500
TZOFFSETTO:-0400
TZNAME:EDT
DTSTART:20260308T070000
END:DAYLIGHT
BEGIN:STANDARD
TZOFFSETFROM:-0400
TZOFFSETTO:-0500
TZNAME:EST
DTSTART:20261101T060000
END:STANDARD
BEGIN:DAYLIGHT
TZOFFSETFROM:-0500
TZOFFSETTO:-0400
TZNAME:EDT
DTSTART:20270314T070000
END:DAYLIGHT
BEGIN:STANDARD
TZOFFSETFROM:-0400
TZOFFSETTO:-0500
TZNAME:EST
DTSTART:20271107T060000
END:STANDARD
END:VTIMEZONE
BEGIN:VEVENT
DTSTART;VALUE=DATE:20260419
DTEND;VALUE=DATE:20260420
DTSTAMP:20260420T062541
CREATED:20251003T150744Z
LAST-MODIFIED:20260419T170509Z
UID:10001481-1776556800-1776643199@www.leeuniversity.edu
SUMMARY:Lee University Men’s Track and Field vs Georgia Tech Invitational
DESCRIPTION:
URL:https://www.leeuniversity.edu/event/lee-university-mens-track-and-field-vs-georgia-tech-invitational/
LOCATION:Atlanta\, Ga.
CATEGORIES:Athletics
ATTACH;FMTTYPE=image/jpeg:https://www.leeuniversity.edu/wp-content/uploads/Event-Header-Athletics-Default-bC7VWO.tmp_.jpg
END:VEVENT
BEGIN:VEVENT
DTSTART;VALUE=DATE:20260419
DTEND;VALUE=DATE:20260420
DTSTAMP:20260420T062541
CREATED:20251003T151011Z
LAST-MODIFIED:20260419T170500Z
UID:10001627-1776556800-1776643199@www.leeuniversity.edu
SUMMARY:Lee University Women’s Track and Field vs Georgia Tech Invitational
DESCRIPTION:
URL:https://www.leeuniversity.edu/event/lee-university-womens-track-and-field-vs-georgia-tech-invitational/
LOCATION:Atlanta\, Ga.
CATEGORIES:Athletics
ATTACH;FMTTYPE=image/jpeg:https://www.leeuniversity.edu/wp-content/uploads/Event-Header-Athletics-Default-bC7VWO.tmp_.jpg
END:VEVENT
BEGIN:VEVENT
DTSTART;TZID=America/New_York:20260419T130000
DTEND;TZID=America/New_York:20260419T150000
DTSTAMP:20260420T062541
CREATED:20251003T151014Z
LAST-MODIFIED:20260419T170500Z
UID:10001628-1776603600-1776610800@www.leeuniversity.edu
SUMMARY:Lee University Softball vs University of West Alabama
DESCRIPTION:
URL:https://www.leeuniversity.edu/event/lee-university-softball-vs-university-of-west-alabama-3/
LOCATION:Cleveland\, Tenn.\, Stanley Butler Softball Field
CATEGORIES:Athletics
ATTACH;FMTTYPE=image/jpeg:https://www.leeuniversity.edu/wp-content/uploads/Event-Header-Athletics-Default-bC7VWO.tmp_.jpg
END:VEVENT
BEGIN:VEVENT
DTSTART;VALUE=DATE:20260420
DTEND;VALUE=DATE:20260422
DTSTAMP:20260420T062541
CREATED:20251202T095141Z
LAST-MODIFIED:20260419T170501Z
UID:10001696-1776643200-1776815999@www.leeuniversity.edu
SUMMARY:Lee University Men’s Golf vs Gulf South Conference Championship
DESCRIPTION:
URL:https://www.leeuniversity.edu/event/lee-university-mens-golf-vs-gulf-south-conference-championship/
LOCATION:Dickson\, Tenn.
CATEGORIES:Athletics
ATTACH;FMTTYPE=image/jpeg:https://www.leeuniversity.edu/wp-content/uploads/Event-Header-Athletics-Default-bC7VWO.tmp_.jpg
END:VEVENT
BEGIN:VEVENT
DTSTART;VALUE=DATE:20260420
DTEND;VALUE=DATE:20260422
DTSTAMP:20260420T062541
CREATED:20251202T095142Z
LAST-MODIFIED:20260419T170501Z
UID:10001697-1776643200-1776815999@www.leeuniversity.edu
SUMMARY:Lee University Women’s Golf vs Gulf South Conference Championship
DESCRIPTION:
URL:https://www.leeuniversity.edu/event/lee-university-womens-golf-vs-gulf-south-conference-championship/
LOCATION:Dickson\, Tenn.
CATEGORIES:Athletics
ATTACH;FMTTYPE=image/jpeg:https://www.leeuniversity.edu/wp-content/uploads/Event-Header-Athletics-Default-bC7VWO.tmp_.jpg
END:VEVENT
BEGIN:VEVENT
DTSTART;TZID=America/New_York:20260421T160000
DTEND;TZID=America/New_York:20260421T190000
DTSTAMP:20260420T062541
CREATED:20251003T151015Z
LAST-MODIFIED:20260419T170502Z
UID:10001629-1776787200-1776798000@www.leeuniversity.edu
SUMMARY:Lee University Baseball vs Middle Georgia State University
DESCRIPTION:
URL:https://www.leeuniversity.edu/event/lee-university-baseball-vs-middle-georgia-state-university/
LOCATION:Cleveland\, Tenn.\, Larry Carpenter Stadium at Olympic Field
CATEGORIES:Athletics
ATTACH;FMTTYPE=image/jpeg:https://www.leeuniversity.edu/wp-content/uploads/Event-Header-Athletics-Default-bC7VWO.tmp_.jpg
END:VEVENT
BEGIN:VEVENT
DTSTART;VALUE=DATE:20260423
DTEND;VALUE=DATE:20260424
DTSTAMP:20260420T062541
CREATED:20251003T151016Z
LAST-MODIFIED:20260419T170502Z
UID:10001630-1776902400-1776988799@www.leeuniversity.edu
SUMMARY:Lee University Women’s Lacrosse vs Gulf South Conference Championship
DESCRIPTION:
URL:https://www.leeuniversity.edu/event/lee-university-womens-lacrosse-vs-gulf-south-conference-championship/
LOCATION:Huntsville\, Ala.
CATEGORIES:Athletics
ATTACH;FMTTYPE=image/jpeg:https://www.leeuniversity.edu/wp-content/uploads/Event-Header-Athletics-Default-bC7VWO.tmp_.jpg
END:VEVENT
BEGIN:VEVENT
DTSTART;VALUE=DATE:20260423
DTEND;VALUE=DATE:20260424
DTSTAMP:20260420T062541
CREATED:20251203T100718Z
LAST-MODIFIED:20260419T170503Z
UID:10001708-1776902400-1776988799@www.leeuniversity.edu
SUMMARY:Lee University Women’s Tennis vs Gulf South Conference Championship
DESCRIPTION:
URL:https://www.leeuniversity.edu/event/lee-university-womens-tennis-vs-gulf-south-conference-championship/
LOCATION:Tuscaloosa\, Ala.
CATEGORIES:Athletics
ATTACH;FMTTYPE=image/jpeg:https://www.leeuniversity.edu/wp-content/uploads/Event-Header-Athletics-Default-bC7VWO.tmp_.jpg
END:VEVENT
BEGIN:VEVENT
DTSTART;VALUE=DATE:20260423
DTEND;VALUE=DATE:20260424
DTSTAMP:20260420T062541
CREATED:20251203T100719Z
LAST-MODIFIED:20260419T170503Z
UID:10001709-1776902400-1776988799@www.leeuniversity.edu
SUMMARY:Lee University Men’s Tennis vs Gulf South Conference Championship
DESCRIPTION:
URL:https://www.leeuniversity.edu/event/lee-university-mens-tennis-vs-gulf-south-conference-championship/
LOCATION:Tuscaloosa\, Ala.
CATEGORIES:Athletics
ATTACH;FMTTYPE=image/jpeg:https://www.leeuniversity.edu/wp-content/uploads/Event-Header-Athletics-Default-bC7VWO.tmp_.jpg
END:VEVENT
BEGIN:VEVENT
DTSTART;TZID=America/New_York:20260424T160000
DTEND;TZID=America/New_York:20260424T180000
DTSTAMP:20260420T062541
CREATED:20251003T151017Z
LAST-MODIFIED:20260419T170503Z
UID:10001631-1777046400-1777053600@www.leeuniversity.edu
SUMMARY:Lee University Softball at Trevecca Nazarene University
DESCRIPTION:
URL:https://www.leeuniversity.edu/event/lee-university-softball-at-trevecca-nazarene-university/
LOCATION:Nashville\, Tenn.
CATEGORIES:Athletics
ATTACH;FMTTYPE=image/jpeg:https://www.leeuniversity.edu/wp-content/uploads/Event-Header-Athletics-Default-bC7VWO.tmp_.jpg
END:VEVENT
BEGIN:VEVENT
DTSTART;TZID=America/New_York:20260424T180000
DTEND;TZID=America/New_York:20260424T210000
DTSTAMP:20260420T062541
CREATED:20251003T151018Z
LAST-MODIFIED:20260419T170510Z
UID:10001632-1777053600-1777064400@www.leeuniversity.edu
SUMMARY:Lee University Baseball at Trevecca Nazarene University
DESCRIPTION:
URL:https://www.leeuniversity.edu/event/lee-university-baseball-at-trevecca-nazarene-university/
LOCATION:Nashville\, Tenn.
CATEGORIES:Athletics
ATTACH;FMTTYPE=image/jpeg:https://www.leeuniversity.edu/wp-content/uploads/Event-Header-Athletics-Default-bC7VWO.tmp_.jpg
END:VEVENT
BEGIN:VEVENT
DTSTART;TZID=America/New_York:20260425T130000
DTEND;TZID=America/New_York:20260425T160000
DTSTAMP:20260420T062541
CREATED:20251003T151019Z
LAST-MODIFIED:20260419T170510Z
UID:10001633-1777122000-1777132800@www.leeuniversity.edu
SUMMARY:Lee University Baseball at Trevecca Nazarene University
DESCRIPTION:
URL:https://www.leeuniversity.edu/event/lee-university-baseball-at-trevecca-nazarene-university-2/
LOCATION:Nashville\, Tenn.
CATEGORIES:Athletics
ATTACH;FMTTYPE=image/jpeg:https://www.leeuniversity.edu/wp-content/uploads/Event-Header-Athletics-Default-bC7VWO.tmp_.jpg
END:VEVENT
BEGIN:VEVENT
DTSTART;TZID=America/New_York:20260425T140000
DTEND;TZID=America/New_York:20260425T160000
DTSTAMP:20260420T062541
CREATED:20251003T151019Z
LAST-MODIFIED:20260419T170511Z
UID:10001634-1777125600-1777132800@www.leeuniversity.edu
SUMMARY:Lee University Softball at Trevecca Nazarene University
DESCRIPTION:
URL:https://www.leeuniversity.edu/event/lee-university-softball-at-trevecca-nazarene-university-2/
LOCATION:Nashville\, Tenn.
CATEGORIES:Athletics
ATTACH;FMTTYPE=image/jpeg:https://www.leeuniversity.edu/wp-content/uploads/Event-Header-Athletics-Default-bC7VWO.tmp_.jpg
END:VEVENT
BEGIN:VEVENT
DTSTART;TZID=America/New_York:20260425T160000
DTEND;TZID=America/New_York:20260425T180000
DTSTAMP:20260420T062541
CREATED:20251003T151021Z
LAST-MODIFIED:20260419T170511Z
UID:10001636-1777132800-1777140000@www.leeuniversity.edu
SUMMARY:Lee University Softball at Trevecca Nazarene University
DESCRIPTION:
URL:https://www.leeuniversity.edu/event/lee-university-softball-at-trevecca-nazarene-university-3/
LOCATION:Nashville\, Tenn.
CATEGORIES:Athletics
ATTACH;FMTTYPE=image/jpeg:https://www.leeuniversity.edu/wp-content/uploads/Event-Header-Athletics-Default-bC7VWO.tmp_.jpg
END:VEVENT
BEGIN:VEVENT
DTSTART;TZID=America/New_York:20260425T160000
DTEND;TZID=America/New_York:20260425T190000
DTSTAMP:20260420T062541
CREATED:20251003T151020Z
LAST-MODIFIED:20260419T170511Z
UID:10001635-1777132800-1777143600@www.leeuniversity.edu
SUMMARY:Lee University Baseball at Trevecca Nazarene University
DESCRIPTION:
URL:https://www.leeuniversity.edu/event/lee-university-baseball-at-trevecca-nazarene-university-3/
LOCATION:Nashville\, Tenn.
CATEGORIES:Athletics
ATTACH;FMTTYPE=image/jpeg:https://www.leeuniversity.edu/wp-content/uploads/Event-Header-Athletics-Default-bC7VWO.tmp_.jpg
END:VEVENT
END:VCALENDAR